Workbook
Name as: #REF!
Name asdf: #REF!
Name asdfg: #REF!
Name ClDate: #REF!
Name ClDate_21: #REF!
Name ClDate_25: #REF!
Name ClDate_6: #REF!
Name CompName: #REF!
Name CompName_21: #REF!
Name CompName_25: #REF!
Name CompName_6: #REF!
Name CompNameE: #REF!
Name CompNameE_21: #REF!
Name CompNameE_25: #REF!
Name CompNameE_6: #REF!
Name d: #REF!
Name Excel_BuiltIn_Print_Titles_2_1: #REF!
Name Excel_BuiltIn_Print_Titles_2_1: #REF!
Name G: #REF!
Name LastItem: #REF!
Name Load: #REF!
Name Load_ID: #REF!
Name Load_ID_11: #REF!
Name Load_ID_12: #REF!
Name Load_ID_13: #REF!
Name Load_ID_14: #REF!
Name Load_ID_15: #REF!
Name Load_ID_16: #REF!
Name Load_ID_17: #REF!
Name Load_ID_18: #REF!
Name Load_ID_19: #REF!
Name Load_ID_20: #REF!
Name Load_ID_200: #REF!
Name Load_ID_21: #REF!
Name Load_ID_23: #REF!
Name Load_ID_25: #REF!
Name Load_ID_542: #REF!
Name Load_ID_6: #REF!
Name OpDate: #REF!
Name OpDate_21: #REF!
Name OpDate_25: #REF!
Name OpDate_6: #REF!
Name QR: #REF!
Name qw: #REF!
Name qwert: #REF!
Name qwerty: #REF!
Name ShowFil: #REF!
Name ShowFil: #REF!
Name Time_ID: #REF!
Name Time_ID_11: #REF!
Name Time_ID_12: #REF!
Name Time_ID_13: #REF!
Name Time_ID_14: #REF!
Name Time_ID_15: #REF!
Name Time_ID_16: #REF!
Name Time_ID_17: #REF!
Name Time_ID_18: #REF!
Name Time_ID_19: #REF!
Name Time_ID_20: #REF!
Name Time_ID_21: #REF!

Sheet Додаток 1_ТЕ_населення без ВКО
D1: Додаток 15-5-1
A2: Структура тарифів на теплову енергію/комунальну послугу з постачання теплової енергії без урахування витрат на утримання та ремонт центральних теплових пунктів, без урахування витрат на утримання та ремонт індивідуальних теплових пунктів, без урахування витрат на оснащення будівель вузлами комерційного обліку для НАСЕЛЕННЯ
B3: ='[1]Додаток 4 ЄР'!A1 -> ТОВ "ЄВРО-РЕКОНСТРУКЦІЯ"
A4: № | B4: Найменування показників | D4: для НАСЕЛЕННЯ
C5: 20____р. розпор. від ____ № | D5: 2022 рік Розпорядження КМВА від 30.08.2022 року №632 | E5: 2022 рік Розпорядження КМВА від 30.09.2022 року №674 | F5: Розпорядження КМВА від 16.06.2026 року №131 | G5: Розпорядження КМВА від 29.09.2026 року №249 | H5: прогнозна
C6: грн/Гкал | D6: грн/Гкал | E6: грн/Гкал | F6: грн/Гкал | G6: грн/Гкал | H6: грн/Гкал
A7: 1 | B7: 2 | C7: 3 | D7: 4 | H7: 5
A8: 1 | B8: Планована виробнича собівартість, у тому числі: | D8: =D9+D20+D21+D29 -> 1635.45 | E8: =E9+E20+E21+E29 -> 1739.26 | F8: =F9+F20+F21+F29 -> 2214.4328 | G8: =G9+G20+G21+G29 -> 2350.53 | H8: =H9+H20+H21+H29 -> 2466.34
A9: 1.1 | B9: Прямі матеріальні витрати, у тому числі: | D9: =SUM(D10:D19) -> 1631.08 | E9: =SUM(E10:E19) -> 1733.32 | F9: =SUM(F10:F19) -> 2206.3801 | G9: =SUM(G10:G19) -> 2341.42 | H9: =SUM(H10:H19) -> 2457.23
A10: 1.1.1 | B10: На придбання палива
A11: 1.1.2 | B11: На оплату послуги з транспортування природного газу
A12: 1.1.3 | B12: На оплату послуги з розподілу природного газу
A13: 1.1.4 | B13: На придбання електроенергії для технологічних потреб
A14: 1.1.5 | B14: На холодну воду для технологічних потреб та водовідведення
A15: 1.1.6 | B15: На придбання теплової енергії в інших суб'єктів господарювання
A16: 1.1.7 | B16: На теплову енергію, вироблену власними ТЕЦ, ТЕС, АЕС, КГУ | D16: 1064.81 | E16: 1064.81 | F16: 1325.22 | G16: 1325.22 | H16: ='[1]Додаток 4 ЄР'!K225 -> 1411.48
A17: 1.1.8 | B17: На теплову енергію, вироблену власними установками, що використовують альтернативні джерела енергії
A18: 1.1.9 | B18: На транспортування власної та/або купованої теплової енергії іншими суб'єктами господарювання | D18: 565.9 | E18: 668.09 | F18: 880.71 | G18: 1015.57 | H18: ='Додаток 3_ТЕ_населення з ВКО'!H18 -> 1045.12
A19: 1.1.10 | B19: Матеріали, запасні частини та інші матеріальні ресурси | D19: 0.37 | E19: 0.42 | F19: 0.45007219 | G19: 0.63 | H19: ='Додаток 3_ТЕ_населення з ВКО'!H19 -> 0.63 | I19: =H19+H20+H21 -> 9.74
A20: 1.2 | B20: Прямі витрати на оплату праці | D20: 3.45 | E20: 4.7 | F20: 6.4380866 | G20: 7.17 | H20: ='Додаток 3_ТЕ_населення з ВКО'!H20 -> 7.17
A21: 1.3 | B21: Інші прямі витрати, у т. ч.: | D21: =SUM(D22:D24)+D28 -> 0.92 | E21: =SUM(E22:E24)+E28 -> 1.24 | F21: 1.6146408 | G21: 1.94 | H21: ='Додаток 3_ТЕ_населення з ВКО'!H21 -> 1.94
A22: 1.3.1 | B22: Відрахування на соціальні заходи | D22: 0.76 | E22: 1.03 | F22: 1.4163791 | G22: 1.58 | H22: ='Додаток 3_ТЕ_населення з ВКО'!H22 -> 1.58
A23: 1.3.2 | B23: Амортизація | D23: 0.05 | E23: 0.05 | F23: 0.055492783 | G23: 0.16 | H23: ='Додаток 3_ТЕ_населення з ВКО'!H23 -> 0.16
A24: 1.3.3 | B24: На покриття втрат власної теплової енергії у власних теплових мережах, у тому числі: | D24: 0 | E24: 0 | F24: 0 | G24: 0 | H24: ='Додаток 3_ТЕ_населення з ВКО'!H24 -> 0
A25: 1.3.3.1 | B25: Понаднормативні втрати | D25: 0 | E25: 0 | F25: 0 | G25: 0 | H25: ='Додаток 3_ТЕ_населення з ВКО'!H25 -> 0
A26: 1.3.4 | B26: На покриття втрат теплової енергії інших ліцензіатів у теплових мережах, у тому числі: | E26: 0 | F26: 0 | G26: 0 | H26: ='Додаток 3_ТЕ_населення з ВКО'!H26 -> 0
A27: 1.3.4.1 | B27: Понаднормативні втрати | E27: 0 | F27: 0 | G27: 0 | H27: ='Додаток 3_ТЕ_населення з ВКО'!H27 -> 0
A28: 1.3.5 | B28: Інші прямі витрати | D28: 0.11 | E28: 0.16 | F28: 0.13276897 | G28: 0.2 | H28: ='Додаток 3_ТЕ_населення з ВКО'!H28 -> 0.2
A29: 1.4 | B29: Загальновиробничі витрати, у т. ч.: | D29: =SUM(D30:D32) -> 0 | E29: =SUM(E30:E32) -> 0 | F29: 0 | G29: 0 | H29: =SUM(H30:H32) -> 0
A30: 1.4.1 | B30: На оплату праці
A31: 1.4.2 | B31: Відрахування на соціальні заходи
A32: 1.4.3 | B32: Інші витрати
A33: 2 | B33: Адміністративні витрати, у т. ч.: | D33: =SUM(D34:D36) -> 0 | E33: =SUM(E34:E36) -> 0 | F33: 0 | G33: 0 | H33: =SUM(H34:H36) -> 0
A34: 2.1 | B34: На оплату праці
A35: 2.2 | B35: Відрахування на соціальні заходи
A36: 2.3 | B36: Інші витрати
A37: 3 | B37: Витрати на збут, у т. ч.: | D37: =SUM(D38:D40) -> 0 | E37: =SUM(E38:E40) -> 0 | F37: 0 | G37: 0 | H37: =SUM(H38:H40) -> 0
A38: 3.1 | B38: На оплату праці
A39: 3.2 | B39: Відрахування на соціальні заходи
A40: 3.3 | B40: Інші витрати
A41: 4 | B41: Інші операційні витрати
A42: 5 | B42: Фінансові витрати
A43: 6 | B43: Повна собівартість | D43: =D8+D33+D37+D41+D42 -> 1635.45 | E43: =E8+E33+E37+E41+E42 -> 1739.26 | F43: =F8+F33+F37+F41+F42 -> 2214.4328 | G43: =G8+G33+G37+G41+G42 -> 2350.53 | H43: =H8+H33+H37+H41+H42 -> 2466.34
A44: 7 | B44: Витрати на відшкодування втрат
A45: 8 | B45: Перерахування витрат | D45: -0.27 | E45: 0 | F45: 0 | G45: 0 | H45: 0
A46: 9 | B46: Планований прибуток, у т.ч.: | D46: =(D51+D50)/0.82 -> 0.23170732 | E46: =(E51+E50)/0.82 -> 0.3102439 | F46: =(F51+F50)/0.82 -> 0.41428291 | G46: =(G51+G50)/0.82-0.01 -> 0.46560976 | H46: =ROUNDDOWN((H51+H50)/0.82,2) -> 0.47
A47: 9.1 | B47: Податок на прибуток | D47: =D46*0.18 -> 0.041707317 | E47: =E46*0.18 -> 0.055843902 | F47: =F46*0.18 -> 0.074570923 | G47: =G46*0.18 -> 0.083809756 | H47: =ROUND(H46*0.18,2) -> 0.08
A48: 9.2 | B48: Резервний капітал та дивіденди
A49: 9.3 | B49: На здійснення заходів інвестиційної програми (інвестиційна складова)
A50: 9.4 | B50: На забезпечення обігових коштів | D50: 0.19 | E50: =6.36*0.04 -> 0.2544 | F50: ='Додаток 3_ТЕ_населення з ВКО'!F51 -> 0.33971198 | G50: ='Додаток 3_ТЕ_населення з ВКО'!G51 -> 0.39 | H50: ='Додаток 3_ТЕ_населення з ВКО'!H51 -> 0.39
A51: 9.5 | B51: Інше використання прибутку
A52: 10 | B52: Тариф на теплову енергію/послугу з постачання теплової енергії, грн/Гкал, без ПДВ | D52: =D43+D45+D46 -> 1635.4117 | E52: =E43+E45+E46 -> 1739.5702 | F52: =ROUND(F43+F45+F46,2)-0.01 -> 2214.84 | G52: =ROUND(G43+G45+G46,2) -> 2351 | H52: =ROUND(H43+H45+H46,2) -> 2466.81
A53: 11 | B53: Податок на додану вартість | D53: =D52*0.2 -> 327.08234 | E53: =E52*0.2 -> 347.91405 | F53: =F52*0.2 -> 442.968 | G53: =G52*0.2 -> 470.2 | H53: =H52*0.2 -> 493.362
A54: 12 | B54: Тариф на теплову енергію/послугу з постачання теплової енергії, грн/Гкал, з ПДВ | D54: =D52+D53 -> 1962.494 | E54: =E52+E53 -> 2087.4843 | F54: =F52+F53 -> 2657.808 | G54: =G52+G53 -> 2821.2 | H54: =H52+H53 -> 2960.172
A55: необхідність зміни тарифів пов'язана із зміною тарифу на транспортування теплової енергії іншого ліцензіата (КП "КИЇВТЕПЛОЕНЕРГО"), який є складовою тарифу на теплову енергію ТОВ "ЄВРО-РЕКОНСТРУКЦІЯ", актуалізацією витрат тарифу на постачання теплової енергії та на виконання процедури встановлення тарифів
B56: Генеральний директор | H56: О.А.Сидоренко
B57: (керівник) | C57: (підпис) | H57: (ініціали, прізвище)

Sheet Додаток 2_ТЕ_БІР без ВКО
L1: Додаток 15-5-1
A2: Структура тарифів на теплову енергію/комунальну послугу з постачання теплової енергії без урахування витрат на утримання та ремонт центральних теплових пунктів, без урахування витрат на утримання та ремонт індивідуальних теплових пунктів, без урахування витрат на оснащення будівель вузлами комерційного обліку для БЮДЖЕТНИХ УСТАНОВ, ІНШИХ СПОЖИВАЧІВ ТА РЕЛІГІЙНИХ ОРГАНІЗАЦІЙ
B3: ='[1]Додаток 4 ЄР'!A1 -> ТОВ "ЄВРО-РЕКОНСТРУКЦІЯ"
A4: № | B4: Найменування показників | C4: для бюджетних установ | G4: для інших споживачів | K4: для релігійних організацій
C5: 2022 рік Розпорядження КМВА від 30.09.2022 року №674 | D5: Розпорядження КМВА від 16.06.2026 року №131 | E5: Розпорядження КМВА від 29.09.2026 року №249 | F5: прогнозна | G5: 2022 рік Розпорядження КМВА від 30.09.2022 року №674 | H5: Розпорядження КМВА від 16.06.2026 року №131 | I5: Розпорядження КМВА від 29.09.2026 року №249 | J5: прогнозна | K5: 2022 рік Розпорядження КМВА від 30.09.2022 року №674 | L5: =H5 -> Розпорядження КМВА від 16.06.2026 року №131 | M5: =E5 -> Розпорядження КМВА від 29.09.2026 року №249 | N5: прогнозна
C6: грн/Гкал | D6: грн/Гкал | E6: грн/Гкал | F6: грн/Гкал | G6: грн/Гкал | H6: грн/Гкал | I6: грн/Гкал | J6: грн/Гкал | K6: грн/Гкал | L6: грн/Гкал | M6: грн/Гкал | N6: грн/Гкал
A7: 1 | B7: 2 | F7: 4 | J7: 6 | N7: 8
A8: 1 | B8: Планована виробнича собівартість, у тому числі: | C8: =C9+C20+C21+C29 -> 1932.85 | D8: =D9+D20+D21+D29 -> 2231.2928 | E8: =E9+E20+E21+E29 -> 2367.39 | F8: =F9+F20+F21+F29 -> 2596.67 | G8: =G9+G20+G21+G29 -> 2189.91 | H8: =H9+H20+H21+H29 -> 2231.2928 | I8: =I9+I20+I21+I29 -> 2367.39 | J8: =J9+J20+J21+J29 -> 2596.67 | ... N8: =N9+N20+N21+N29 -> 2596.67
A9: 1.1 | B9: Прямі матеріальні витрати, у тому числі: | C9: =SUM(C10:C19) -> 1926.91 | D9: =SUM(D10:D19) -> 2223.2401 | E9: =SUM(E10:E19) -> 2358.28 | F9: =SUM(F10:F19) -> 2587.56 | G9: =SUM(G10:G19) -> 2183.97 | H9: =SUM(H10:H19) -> 2223.2401 | I9: =SUM(I10:I19) -> 2358.28 | J9: =SUM(J10:J19) -> 2587.56 | ... N9: =SUM(N10:N19) -> 2587.56
A10: 1.1.1 | B10: На придбання палива
A11: 1.1.2 | B11: На оплату послуги з транспортування природного газу
A12: 1.1.3 | B12: На оплату послуги з розподілу природного газу
A13: 1.1.4 | B13: На придбання електроенергії для технологічних потреб
A14: 1.1.5 | B14: На холодну воду для технологічних потреб та водовідведення
A15: 1.1.6 | B15: На придбання теплової енергії в інших суб'єктів господарювання
A16: 1.1.7 | B16: На теплову енергію, вироблену власними ТЕЦ, ТЕС, АЕС, КГУ | C16: 1258.4 | D16: 1342.08 | E16: 1342.08 | F16: ='[1]Додаток 4 ЄР'!S225 -> 1541.81 | G16: 1515.46 | H16: 1342.08 | I16: 1342.08 | J16: ='[1]Додаток 4 ЄР'!W225 -> 1541.81 | K16: 1230.05 | L16: 1342.08 | M16: 1342.08 | N16: ='[1]Додаток 4 ЄР'!O225 -> 1541.81
A17: 1.1.8 | B17: На теплову енергію, вироблену власними установками, що використовують альтернативні джерела енергії
A18: 1.1.9 | B18: На транспортування власної та/або купованої теплової енергії іншими суб'єктами господарювання | C18: 668.09 | D18: 880.71 | E18: 1015.57 | F18: ='Додаток 1_ТЕ_населення без ВКО'!H18 -> 1045.12 | G18: 668.09 | H18: 880.71 | I18: 1015.57 | J18: =F18 -> 1045.12 | K18: 668.09 | L18: 880.71 | M18: 1015.57 | N18: =F18 -> 1045.12
A19: 1.1.10 | B19: Матеріали, запасні частини та інші матеріальні ресурси | C19: 0.42 | D19: 0.45007219 | E19: 0.63 | F19: ='Додаток 3_ТЕ_населення з ВКО'!H19 -> 0.63 | G19: 0.42 | H19: 0.45007219 | I19: 0.63 | J19: =F19 -> 0.63 | K19: 0.42 | L19: 0.45007219 | M19: 0.63 | N19: =F19 -> 0.63
A20: 1.2 | B20: Прямі витрати на оплату праці | C20: 4.7 | D20: 6.4380866 | E20: 7.17 | F20: ='Додаток 3_ТЕ_населення з ВКО'!H20 -> 7.17 | G20: 4.7 | H20: 6.4380866 | I20: 7.17 | J20: =F20 -> 7.17 | K20: 4.7 | L20: 6.4380866 | M20: 7.17 | N20: =F20 -> 7.17
A21: 1.3 | B21: Інші прямі витрати, у т. ч.: | C21: =SUM(C22:C24)+C28 -> 1.24 | D21: 1.6146408 | E21: 1.94 | F21: ='Додаток 3_ТЕ_населення з ВКО'!H21 -> 1.94 | G21: =SUM(G22:G24)+G28 -> 1.24 | H21: 1.6146408 | I21: 1.94 | J21: =F21 -> 1.94 | K21: =SUM(K22:K24)+K28 -> 1.24 | L21: 1.6146408 | M21: 1.94 | N21: =F21 -> 1.94
A22: 1.3.1 | B22: Відрахування на соціальні заходи | C22: 1.03 | D22: 1.4163791 | E22: 1.58 | F22: ='Додаток 3_ТЕ_населення з ВКО'!H22 -> 1.58 | G22: 1.03 | H22: 1.4163791 | I22: 1.58 | J22: =F22 -> 1.58 | K22: 1.03 | L22: 1.4163791 | M22: 1.58 | N22: =F22 -> 1.58
A23: 1.3.2 | B23: Амортизація | C23: 0.05 | D23: 0.055492783 | E23: 0.16 | F23: ='Додаток 3_ТЕ_населення з ВКО'!H23 -> 0.16 | G23: 0.05 | H23: 0.055492783 | I23: 0.16 | J23: =F23 -> 0.16 | K23: 0.05 | L23: 0.055492783 | M23: 0.16 | N23: =F23 -> 0.16
A24: 1.3.3 | B24: На покриття втрат власної теплової енергії у власних теплових мережах, у тому числі: | D24: 0 | E24: 0 | F24: ='Додаток 3_ТЕ_населення з ВКО'!H24 -> 0 | H24: 0 | I24: 0 | J24: =F24 -> 0 | L24: 0 | M24: 0 | N24: =F24 -> 0
A25: 1.3.3.1 | B25: Понаднормативні втрати | D25: 0 | E25: 0 | F25: ='Додаток 3_ТЕ_населення з ВКО'!H25 -> 0 | H25: 0 | I25: 0 | J25: =F25 -> 0 | L25: 0 | M25: 0 | N25: =F25 -> 0
A26: 1.3.4 | B26: На покриття втрат теплової енергії інших ліцензіатів у теплових мережах, у тому числі: | D26: 0 | E26: 0 | F26: ='Додаток 3_ТЕ_населення з ВКО'!H26 -> 0 | H26: 0 | I26: 0 | J26: =F26 -> 0 | L26: 0 | M26: 0 | N26: =F26 -> 0
A27: 1.3.4.1 | B27: Понаднормативні втрати | D27: 0 | E27: 0 | F27: ='Додаток 3_ТЕ_населення з ВКО'!H27 -> 0 | H27: 0 | I27: 0 | J27: =F27 -> 0 | L27: 0 | M27: 0 | N27: =F27 -> 0
A28: 1.3.5 | B28: Інші прямі витрати | C28: 0.16 | D28: 0.13276897 | E28: 0.2 | F28: ='Додаток 3_ТЕ_населення з ВКО'!H28 -> 0.2 | G28: 0.16 | H28: 0.13276897 | I28: 0.2 | J28: =F28 -> 0.2 | K28: 0.16 | L28: 0.13276897 | M28: 0.2 | N28: =F28 -> 0.2
A29: 1.4 | B29: Загальновиробничі витрати, у т. ч.: | C29: =SUM(C30:C32) -> 0 | D29: 0 | E29: 0 | F29: ='Додаток 3_ТЕ_населення з ВКО'!H29 -> 0 | G29: =SUM(G30:G32) -> 0 | H29: 0 | I29: 0 | J29: =F29 -> 0 | K29: =SUM(K30:K32) -> 0 | L29: 0 | M29: 0 | N29: =F29 -> 0
A30: 1.4.1 | B30: На оплату праці | H30: 0 | I30: 0 | J30: =F30 -> 0 | L30: 0 | M30: 0 | N30: =F30 -> 0
A31: 1.4.2 | B31: Відрахування на соціальні заходи | H31: 0 | I31: 0 | J31: =F31 -> 0 | L31: 0 | M31: 0 | N31: =F31 -> 0
A32: 1.4.3 | B32: Інші витрати | H32: 0 | I32: 0 | J32: =F32 -> 0 | L32: 0 | M32: 0 | N32: =F32 -> 0
A33: 2 | B33: Адміністративні витрати, у т. ч.: | C33: =SUM(C34:C36) -> 0 | D33: 0 | E33: 0 | F33: =SUM(F34:F36) -> 0 | G33: =SUM(G34:G36) -> 0 | H33: 0 | I33: 0 | J33: =F33 -> 0 | K33: =SUM(K34:K36) -> 0 | L33: 0 | M33: 0 | N33: =F33 -> 0
A34: 2.1 | B34: На оплату праці | H34: 0 | I34: 0 | J34: =F34 -> 0 | L34: 0 | M34: 0 | N34: =F34 -> 0
A35: 2.2 | B35: Відрахування на соціальні заходи | H35: 0 | I35: 0 | J35: =F35 -> 0 | L35: 0 | M35: 0 | N35: =F35 -> 0
A36: 2.3 | B36: Інші витрати | H36: 0 | I36: 0 | J36: =F36 -> 0 | L36: 0 | M36: 0 | N36: =F36 -> 0
A37: 3 | B37: Витрати на збут, у т. ч.: | C37: =SUM(C38:C40) -> 0 | D37: 0 | E37: 0 | F37: =SUM(F38:F40) -> 0 | G37: =SUM(G38:G40) -> 0 | H37: 0 | I37: 0 | J37: =F37 -> 0 | K37: =SUM(K38:K40) -> 0 | L37: 0 | M37: 0 | N37: =F37 -> 0
A38: 3.1 | B38: На оплату праці
A39: 3.2 | B39: Відрахування на соціальні заходи
A40: 3.3 | B40: Інші витрати
A41: 4 | B41: Інші операційні витрати
A42: 5 | B42: Фінансові витрати
A43: 6 | B43: Повна собівартість | C43: =C8+C33+C37+C41+C42 -> 1932.85 | D43: 2231.2928 | E43: =E8+E33+E37+E41+E42 -> 2367.39 | F43: =F8+F33+F37+F41+F42 -> 2596.67 | G43: =G8+G33+G37+G41+G42 -> 2189.91 | H43: 2231.2928 | I43: =I8+I33+I37+I41+I42 -> 2367.39 | J43: =J8+J33+J37+J41+J42 -> 2596.67 | K43: =K8+K33+K37+K41+K42 -> 1904.5 | L43: 2231.2928 | M43: =M8+M33+M37+M41+M42 -> 2367.39 | N43: =N8+N33+N37+N41+N42 -> 2596.67
A44: 7 | B44: Витрати на відшкодування втрат
A45: 8 | B45: Перерахування витрат | C45: 0 | D45: -0.56 | F45: ='[1]Дод 7-5(безЦТПбезІТПбезВКО)ЄР1'!F26 -> 0 | G45: 0 | H45: -0.56 | J45: ='[1]Дод 7-5(безЦТПбезІТПбезВКО)ЄР1'!G21 -> 0 | K45: 0 | L45: -0.56 | N45: ='[1]Дод 7-5(безЦТПбезІТПбезВКО)ЄР1'!H21 -> 0
A46: 9 | B46: Планований прибуток, у т.ч.: | C46: =(C51+C50)/0.82 -> 0.3102439 | D46: 0.41428291 | E46: 0.47 | F46: =ROUNDDOWN((F51+F50)/0.82,2) -> 0.47 | G46: =(G51+G50)/0.82 -> 0.3102439 | H46: 0.41428291 | I46: 0.47 | J46: =ROUNDDOWN((J51+J50)/0.82,2) -> 0.47 | K46: =(K51+K50)/0.82 -> 0.3102439 | L46: 0.41428291 | M46: 0.47 | N46: =ROUNDDOWN((N51+N50)/0.82,2) -> 0.47
A47: 9.1 | B47: Податок на прибуток | C47: =C46*0.18 -> 0.055843902 | D47: 0.074570923 | E47: 0.08 | F47: =ROUNDDOWN(F46*0.18,2) -> 0.08 | G47: =G46*0.18 -> 0.055843902 | H47: 0.074570923 | I47: 0.08 | J47: =J46*0.18 -> 0.0846 | K47: =K46*0.18 -> 0.055843902 | L47: 0.074570923 | M47: 0.08 | N47: =N46*0.18 -> 0.0846
A48: 9.2 | B48: Резервний капітал та дивіденди
A49: 9.3 | B49: На здійснення заходів інвестиційної програми (інвестиційна складова)
A50: 9.4 | B50: На забезпечення обігових коштів | C50: =6.36*0.04 -> 0.2544 | D50: 0.33971198 | E50: 0.33971198 | F50: ='Додаток 3_ТЕ_населення з ВКО'!H51 -> 0.39 | G50: =6.36*0.04 -> 0.2544 | H50: 0.33971198 | I50: 0.33971198 | J50: =F50 -> 0.39 | K50: =6.36*0.04 -> 0.2544 | L50: 0.33971198 | M50: 0.33971198 | N50: =F50 -> 0.39
A51: 9.5 | B51: Інше використання прибутку
A52: 10 | B52: Тариф на теплову енергію/послугу з постачання теплової енергії, грн/Гкал, без ПДВ | C52: =C43+C45+C46 -> 1933.1602 | D52: 2231.14 | E52: =ROUND(E43+E45+E46,2) -> 2367.86 | F52: =ROUND(F43+F45+F46,2) -> 2597.14 | G52: =G43+G45+G46 -> 2190.2202 | H52: 2231.14 | I52: =ROUND(I43+I45+I46,2) -> 2367.86 | J52: =ROUND(J43+J45+J46,2) -> 2597.14 | K52: =K43+K45+K46 -> 1904.8102 | L52: 2231.14 | M52: =ROUND(M43+M45+M46,2) -> 2367.86 | N52: =ROUND(N43+N45+N46,2) -> 2597.14
A53: 11 | B53: Податок на додану вартість | C53: =C52*0.2 -> 386.63205 | D53: 446.228 | E53: =E52*0.2 -> 473.572 | F53: =F52*0.2 -> 519.428 | G53: =G52*0.2 -> 438.04405 | H53: 446.228 | I53: =I52*0.2 -> 473.572 | J53: =J52*0.2 -> 519.428 | K53: =K52*0.2 -> 380.96205 | L53: 446.228 | M53: =M52*0.2 -> 473.572 | N53: =N52*0.2 -> 519.428
A54: 12 | B54: Тариф на теплову енергію/послугу з постачання теплової енергії, грн/Гкал, з ПДВ | C54: =C52+C53 -> 2319.7923 | D54: 2677.37 | E54: =ROUND(E52+E53,2) -> 2841.43 | F54: =ROUND(F52+F53,2) -> 3116.57 | G54: =G52+G53 -> 2628.2643 | H54: 2677.368 | I54: =ROUND(I52+I53,2) -> 2841.43 | J54: =J52+J53 -> 3116.568 | K54: =K52+K53 -> 2285.7723 | L54: 2677.37 | M54: =ROUND(M52+M53,2) -> 2841.43 | N54: =ROUND(N52+N53,2) -> 3116.57
A55: необхідність зміни тарифів пов'язана із зміною тарифу на транспортування теплової енергії іншого ліцензіата (КП "КИЇВТЕПЛОЕНЕРГО"), який є складовою тарифу на теплову енергію ТОВ "ЄВРО-РЕКОНСТРУКЦІЯ", актуалізацією витрат тарифу на постачання теплової енергії та на виконання процедури встановлення тарифів
B56: Генеральний директор | J56: О.А.Сидоренко
B57: (керівник) | C57: (підпис)

Sheet Додаток 3_ТЕ_населення з ВКО
D1: Додаток 15-4
A2: Структура тарифів на теплову енергію/комунальну послугу з постачання теплової енергії без урахування витрат на утримання та ремонт центральних теплових пунктів, без урахування витрат на утримання та ремонт індивідуальних теплових пунктів, з урахуванням витрат на оснащення будівель вузлами комерційного обліку для НАСЕЛЕННЯ
B3: ='[1]Додаток 4 ЄР'!A1 -> ТОВ "ЄВРО-РЕКОНСТРУКЦІЯ"
A4: № | B4: Найменування показників | D4: для НАСЕЛЕННЯ
C5: 20____р. розпор. від ____ № | D5: 2022 рік Розпорядження КМВА від 30.09.2022 року №674 | E5: 2022 рік Розпорядження КМВА від 30.08.2022 року №632 | F5: ='Додаток 1_ТЕ_населення без ВКО'!F5 -> Розпорядження КМВА від 16.06.2026 року №131 | G5: ='Додаток 1_ТЕ_населення без ВКО'!G5 -> Розпорядження КМВА від 29.09.2026 року №249 | H5: прогнозна
C6: грн/Гкал | D6: грн/Гкал | E6: грн/Гкал | F6: грн/Гкал | G6: грн/Гкал | H6: грн/Гкал
A7: 1 | B7: 2 | C7: 3 | D7: 4 | E7: 4 | H7: 5
A8: 1 | B8: Планована виробнича собівартість, у тому числі: | C8: =C9+C20+C21+C29 -> 0 | D8: =D9+D20+D21+D29 -> 1739.26 | E8: =E9+E20+E21+E29 -> 1635.45 | F8: =F9+F20+F21+F29 -> 2214.4328 | G8: =G9+G20+G21+G29 -> 2350.53 | H8: =H9+H20+H21+H29 -> 2466.34
A9: 1.1 | B9: Прямі матеріальні витрати, у тому числі: | C9: =SUM(C10:C19) -> 0 | D9: =SUM(D10:D19) -> 1733.32 | E9: =SUM(E10:E19) -> 1631.08 | F9: =SUM(F10:F19) -> 2206.3801 | G9: =SUM(G10:G19) -> 2341.42 | H9: =SUM(H10:H19) -> 2457.23
A10: 1.1.1 | B10: На придбання палива
A11: 1.1.2 | B11: На оплату послуги з транспортування природного газу
A12: 1.1.3 | B12: На оплату послуги з розподілу природного газу
A13: 1.1.4 | B13: На придбання електроенергії для технологічних потреб
A14: 1.1.5 | B14: На холодну воду для технологічних потреб та водовідведення
A15: 1.1.6 | B15: На придбання теплової енергії в інших суб'єктів господарювання
A16: 1.1.7 | B16: На теплову енергію, вироблену власними ТЕЦ, ТЕС, АЕС, КГУ | D16: 1064.81 | E16: 1064.81 | F16: 1325.22 | G16: 1325.22 | H16: ='[1]Додаток 4 ЄР'!K225 -> 1411.48
A17: 1.1.8 | B17: На теплову енергію, вироблену власними установками, що використовують альтернативні джерела енергії
A18: 1.1.9 | B18: На транспортування власної та/або купованої теплової енергії іншими суб'єктами господарювання | D18: 668.09 | E18: 565.9 | F18: 880.71 | G18: 1015.57 | H18: ='[1]Дод 5 (інформаційно-довідков)ЄР'!G243 -> 1045.12
A19: 1.1.10 | B19: Матеріали, запасні частини та інші матеріальні ресурси | D19: 0.42 | E19: 0.37 | F19: 0.45007219 | G19: 0.63 | H19: =ROUND('[1]Додаток 6-1 (без ІТП з ВК O(2'!K15/'[1]Додаток 6-1 (без ІТП з ВК O(2'!K188*1000,2) -> 0.63 | J19: =H19+H20+H21 -> 9.74
A20: 1.2 | B20: Прямі витрати на оплату праці | D20: 4.7 | E20: 3.45 | F20: 6.4380866 | G20: 7.17 | H20: =ROUND('[1]Додаток 6-1 (без ІТП з ВК O(2'!K16/'[1]Додаток 6-1 (без ІТП з ВК O(2'!K188*1000,2) -> 7.17
A21: 1.3 | B21: Інші прямі витрати, у т. ч.: | C21: =SUM(C22:C24)+C28 -> 0 | D21: =SUM(D22:D24)+D28 -> 1.24 | E21: =SUM(E22:E24)+E28 -> 0.92 | F21: 1.6146408 | G21: 1.94 | H21: =H22+H23+H24+H26+H28 -> 1.94
A22: 1.3.1 | B22: Відрахування на соціальні заходи | D22: 1.03 | E22: 0.76 | F22: 1.4163791 | G22: 1.58 | H22: =ROUND('[1]Додаток 6-1 (без ІТП з ВК O(2'!K18/'[1]Додаток 6-1 (без ІТП з ВК O(2'!K188*1000,2) -> 1.58 | I22: =SUM(H23:H31) -> 0.36
A23: 1.3.2 | B23: Амортизація | D23: 0.05 | E23: 0.05 | F23: 0.055492783 | G23: 0.16 | H23: =ROUND('[1]Додаток 6-1 (без ІТП з ВК O(2'!K19/'[1]Додаток 6-1 (без ІТП з ВК O(2'!K188*1000,2) -> 0.16
A24: 1.3.3 | B24: На покриття втрат власної теплової енергії у власних теплових мережах, у тому числі: | D24: 0 | E24: 0 | F24: 0 | G24: 0 | H24: 0
A25: 1.3.3.1 | B25: Понаднормативні втрати | D25: 0 | E25: 0 | F25: 0 | G25: 0 | H25: 0
A26: 1.3.4 | B26: На покриття втрат теплової енергії інших ліцензіатів у теплових мережах, у тому числі: | F26: 0 | G26: 0 | H26: 0
A27: 1.3.4.1 | B27: Понаднормативні втрати | F27: 0 | G27: 0 | H27: 0
A28: 1.3.5 | B28: Інші прямі витрати | D28: 0.16 | E28: 0.11 | F28: 0.13276897 | G28: 0.2 | H28: =ROUND('[1]Додаток 6-1 (без ІТП з ВК O(2'!K20/'[1]Додаток 6-1 (без ІТП з ВК O(2'!K188*1000,2) -> 0.2
A29: 1.4 | B29: Загальновиробничі витрати, у т. ч.: | C29: =SUM(C30:C32) -> 0 | D29: =SUM(D30:D32) -> 0 | E29: =SUM(E30:E32) -> 0 | F29: 0 | G29: 0 | H29: =SUM(H30:H32) -> 0 | J29: =SUM(H19:H21) -> 9.74
A30: 1.4.1 | B30: На оплату праці
A31: 1.4.2 | B31: Відрахування на соціальні заходи
A32: 1.4.3 | B32: Інші витрати
A33: 2 | B33: Адміністративні витрати, у т. ч.: | C33: =SUM(C34:C36) -> 0 | D33: =SUM(D34:D36) -> 0 | E33: =SUM(E34:E36) -> 0 | F33: 0 | G33: 0 | H33: =SUM(H34:H36) -> 0
A34: 2.1 | B34: На оплату праці
A35: 2.2 | B35: Відрахування на соціальні заходи
A36: 2.3 | B36: Інші витрати
A37: 3 | B37: Витрати на збут, у т. ч.: | C37: =SUM(C38:C40) -> 0 | D37: =SUM(D38:D40) -> 0 | E37: =SUM(E38:E40) -> 0 | F37: 0 | G37: 0 | H37: =SUM(H38:H40) -> 0
A38: 3.1 | B38: На оплату праці
A39: 3.2 | B39: Відрахування на соціальні заходи
A40: 3.3 | B40: Інші витрати
A41: 4 | B41: Інші операційні витрати
A42: 5 | B42: Фінансові витрати
A43: 6 | B43: Повна собівартість | C43: =C8+C33+C37+C41+C42 -> 0 | D43: =D8+D33+D37+D41+D42 -> 1739.26 | E43: =E8+E33+E37+E41+E42 -> 1635.45 | F43: =F8+F33+F37+F41+F42 -> 2214.4328 | G43: =G8+G33+G37+G41+G42 -> 2350.53 | H43: =H8+H33+H37+H41+H42 -> 2466.34
A44: 7 | B44: Витрати на відшкодування втрат
A45: 8 | B45: Перерахування витрат | D45: 0 | E45: -0.27 | F45: 0 | G45: 0 | H45: 0
A46: 9 | B46: Планований прибуток, у т.ч.: | C46: =(C52+C51+C49)/0.82 -> 0 | D46: =(D52+D51+D49)/0.82 -> 174.89072 | E46: =(E51+E50)/0.82 -> 0.23170732 | F46: =ROUND((F52+F51+F49)/0.82,2) -> 389.98 | G46: =ROUND((G52+G51+G49)/0.82,2) -> 249.35 | H46: =ROUND((H52+H51+H49)/0.82,2) -> 249.35
A47: 9.1 | B47: Податок на прибуток | C47: =C46*0.18 -> 0 | D47: =D46*0.18 -> 31.480329 | E47: =E46*0.18 -> 0.041707317 | F47: 70.195547 | G47: =G46*0.18 -> 44.883 | H47: =H46*0.18 -> 44.883
A48: 9.2 | B48: Резервний капітал та дивіденди
A49: 9.3 | B49: На здійснення заходів інвестиційної програми (інвестиційна складова), у тому числі: | D49: 143.15596 | F49: 319.44 | G49: =G50 -> 204.08 | H49: =H50 -> 204.08
A50: 9.3.1. | B50: На оснащення будівель вузлами комерційного обліку | D50: 143.15596 | E50: 0 | F50: 319.44 | G50: 204.08 | H50: =ROUND('[1]Додаток 6-1 (без ІТП з ВК O(2'!K182/'[1]Додаток 6-1 (без ІТП з ВК O(2'!K188*1000,2) -> 204.08
A51: 9.4 | B51: На забезпечення обігових коштів | D51: 0.2544248 | E51: 0.19 | F51: 0.33971198 | G51: 0.39 | H51: =ROUND('[1]Додаток 6-1 (без ІТП з ВК O(2'!K183/'[1]Додаток 6-1 (без ІТП з ВК O(2'!K188*1000,2) -> 0.39
A52: 9.5 | B52: Інше використання прибутку
A53: 10 | B53: Тариф на теплову енергію/послугу з постачання теплової енергії, грн/Гкал, без ПДВ | C53: =C43+C46 -> 0 | D53: =D43+D46+D44+D45 -> 1914.1507 | E53: =E43+E46+E44+E45 -> 1635.4117 | F53: =F43+F46+F44+F45 -> 2604.4128 | G53: =G43+G46+G44+G45 -> 2599.88 | H53: =H43+H46+H44+H45 -> 2715.69
A54: 11 | B54: Податок на додану вартість | C54: =C53*0.2 -> 0 | D54: =D53*0.2 -> 382.83014 | E54: =E53*0.2 -> 327.08234 | F54: =F53*0.2 -> 520.88256 | G54: =G53*0.2 -> 519.976 | H54: =H53*0.2 -> 543.138
A55: 12 | B55: Тариф на теплову енергію/послугу з постачання теплової енергії, грн/Гкал, з ПДВ | C55: =C53+C54 -> 0 | D55: =D53+D54 -> 2296.9809 | E55: =E53+E54 -> 1962.494 | F55: =ROUNDUP(F53+F54,2)-0.01 -> 3125.29 | G55: =ROUNDUP(G53+G54,2) -> 3119.86 | H55: =ROUNDUP(H53+H54,2) -> 3258.83
A56: необхідність зміни тарифів пов'язана із зміною тарифу на транспортування теплової енергії іншого ліцензіата (КП "КИЇВТЕПЛОЕНЕРГО"), який є складовою тарифу на теплову енергію ТОВ "ЄВРО-РЕКОНСТРУКЦІЯ", актуалізацією витрат тарифу на постачання теплової енергії з врахуванням витрат на оснащення будівель вузлами комерційного обліку та на виконання процедури встановлення тарифів
B57: Генеральний директор | H57: О.А.Сидоренко
B58: (керівник) | C58: (підпис) | H58: (ініціали, прізвище)

Sheet Додаток 4_ТЕ_БІР з ВКО
J1: Додаток 15-5-2
A2: Структура тарифів на теплову енергію/комунальну послугу з постачання теплової енергії без урахування витрат на утримання та ремонт центральних теплових пунктів, без урахування витрат на утримання та ремонт індивідуальних теплових пунктів, з урахуванням витрат на оснащення будівель вузлами комерційного обліку для БЮДЖЕТНИХ УСТАНОВ, ІНШИХ СПОЖИВАЧІВ ТА РЕЛІГІЙНИХ ОРГАНІЗАЦІЙ
B3: ='[1]Додаток 4 ЄР'!A1 -> ТОВ "ЄВРО-РЕКОНСТРУКЦІЯ"
A4: № | B4: Найменування показників | C4: для бюджетних установ | G4: для інших споживачів | K4: для релігійних організацій
C5: 2022 рік Розпорядження КМВА від 30.09.2022 року №674 | D5: Розпорядження КМВА від 16.06.2026 року №131 | E5: ='Додаток 2_ТЕ_БІР без ВКО'!E5 -> Розпорядження КМВА від 29.09.2026 року №249 | F5: прогнозна | G5: 2022 рік Розпорядження КМВА від 30.09.2022 року №674 | H5: 2026 рік Розпорядження КМВА від 16.06.2026 року №131 | I5: =$E$5 -> Розпорядження КМВА від 29.09.2026 року №249 | J5: прогнозна | K5: 2022 рік Розпорядження КМВА від 30.09.2022 року №674 | L5: 2024 рік Розпорядження КМВА від 30.09.2024 року №1146 | M5: =I5 -> Розпорядження КМВА від 29.09.2026 року №249 | N5: прогнозна
C6: грн/Гкал | D6: грн/Гкал | E6: грн/Гкал | F6: грн/Гкал | G6: грн/Гкал | H6: грн/Гкал | I6: грн/Гкал | J6: грн/Гкал | K6: грн/Гкал | L6: грн/Гкал | M6: грн/Гкал | N6: грн/Гкал
A7: 1 | B7: 2 | F7: 4 | J7: 6 | N7: 8
A8: 1 | B8: Планована виробнича собівартість, у тому числі: | C8: =C9+C20+C21+C29 -> 1932.85 | E8: =E9+E20+E21+E29 -> 2367.39 | F8: =F9+F20+F21+F29 -> 2596.67 | G8: =G9+G20+G21+G29 -> 2189.91 | I8: =I9+I20+I21+I29 -> 2367.39 | J8: =J9+J20+J21+J29 -> 2596.67 | K8: =K9+K20+K21+K29 -> 1904.5 | N8: =N9+N20+N21+N29 -> 2396.94
A9: 1.1 | B9: Прямі матеріальні витрати, у тому числі: | C9: =SUM(C10:C19) -> 1926.91 | E9: =SUM(E10:E19) -> 2358.28 | F9: =SUM(F10:F19) -> 2587.56 | G9: =SUM(G10:G19) -> 2183.97 | I9: =SUM(I10:I19) -> 2358.28 | J9: =SUM(J10:J19) -> 2587.56 | K9: =SUM(K10:K19) -> 1898.56 | N9: =SUM(N10:N19) -> 2387.83
A10: 1.1.1 | B10: На придбання палива
A11: 1.1.2 | B11: На оплату послуги з транспортування природного газу
A12: 1.1.3 | B12: На оплату послуги з розподілу природного газу
A13: 1.1.4 | B13: На придбання електроенергії для технологічних потреб
A14: 1.1.5 | B14: На холодну воду для технологічних потреб та водовідведення
A15: 1.1.6 | B15: На придбання теплової енергії в інших суб'єктів господарювання
A16: 1.1.7 | B16: На теплову енергію, вироблену власними ТЕЦ, ТЕС, АЕС, КГУ | C16: 1258.4 | E16: ='[1]Додаток 4 ЄР'!R225 -> 1342.08 | F16: ='[1]Додаток 4 ЄР'!S225 -> 1541.81 | G16: 1515.46 | I16: ='[1]Додаток 4 ЄР'!V225 -> 1342.08 | J16: ='[1]Додаток 4 ЄР'!W225 -> 1541.81 | K16: 1230.05 | N16: 1342.08
A17: 1.1.8 | B17: На теплову енергію, вироблену власними установками, що використовують альтернативні джерела енергії
A18: 1.1.9 | B18: На транспортування власної та/або купованої теплової енергії іншими суб'єктами господарювання | C18: 668.09 | E18: ='Додаток 1_ТЕ_населення без ВКО'!G18 -> 1015.57 | F18: ='Додаток 1_ТЕ_населення без ВКО'!H18 -> 1045.12 | G18: 668.09 | I18: =E18 -> 1015.57 | J18: =F18 -> 1045.12 | K18: 668.09 | N18: =F18 -> 1045.12
A19: 1.1.10 | B19: Матеріали, запасні частини та інші матеріальні ресурси | C19: 0.42 | E19: ='Додаток 3_ТЕ_населення з ВКО'!G19 -> 0.63 | F19: ='Додаток 3_ТЕ_населення з ВКО'!H19 -> 0.63 | G19: 0.42 | I19: =E19 -> 0.63 | J19: =F19 -> 0.63 | K19: 0.42 | N19: =F19 -> 0.63
A20: 1.2 | B20: Прямі витрати на оплату праці | C20: 4.7 | E20: ='Додаток 3_ТЕ_населення з ВКО'!G20 -> 7.17 | F20: ='Додаток 3_ТЕ_населення з ВКО'!H20 -> 7.17 | G20: 4.7 | I20: =E20 -> 7.17 | J20: =F20 -> 7.17 | K20: 4.7 | N20: =F20 -> 7.17
A21: 1.3 | B21: Інші прямі витрати, у т. ч.: | C21: =SUM(C22:C24)+C28 -> 1.24 | E21: ='Додаток 3_ТЕ_населення з ВКО'!G21 -> 1.94 | F21: ='Додаток 3_ТЕ_населення з ВКО'!H21 -> 1.94 | G21: =SUM(G22:G24)+G28 -> 1.24 | I21: =E21 -> 1.94 | J21: =F21 -> 1.94 | K21: =SUM(K22:K24)+K28 -> 1.24 | N21: =F21 -> 1.94
A22: 1.3.1 | B22: Відрахування на соціальні заходи | C22: 1.03 | E22: ='Додаток 3_ТЕ_населення з ВКО'!G22 -> 1.58 | F22: ='Додаток 3_ТЕ_населення з ВКО'!H22 -> 1.58 | G22: 1.03 | I22: =E22 -> 1.58 | J22: =F22 -> 1.58 | K22: 1.03 | N22: =F22 -> 1.58
A23: 1.3.2 | B23: Амортизація | C23: 0.05 | E23: ='Додаток 3_ТЕ_населення з ВКО'!G23 -> 0.16 | F23: ='Додаток 3_ТЕ_населення з ВКО'!H23 -> 0.16 | G23: 0.05 | I23: =E23 -> 0.16 | J23: =F23 -> 0.16 | K23: 0.05 | N23: =F23 -> 0.16
A24: 1.3.3 | B24: На покриття втрат власної теплової енергії у власних теплових мережах, у тому числі: | E24: ='Додаток 3_ТЕ_населення з ВКО'!G24 -> 0 | F24: ='Додаток 3_ТЕ_населення з ВКО'!H24 -> 0 | I24: =E24 -> 0 | J24: =F24 -> 0 | N24: =F24 -> 0
A25: 1.3.3.1 | B25: Понаднормативні втрати | E25: ='Додаток 3_ТЕ_населення з ВКО'!G25 -> 0 | F25: ='Додаток 3_ТЕ_населення з ВКО'!H25 -> 0 | I25: =E25 -> 0 | J25: =F25 -> 0 | N25: =F25 -> 0
A26: 1.3.4 | B26: На покриття втрат теплової енергії інших ліцензіатів у теплових мережах, у тому числі: | E26: ='Додаток 3_ТЕ_населення з ВКО'!G26 -> 0 | F26: ='Додаток 3_ТЕ_населення з ВКО'!H26 -> 0 | I26: =E26 -> 0 | J26: =F26 -> 0 | N26: =F26 -> 0
A27: 1.3.4.1 | B27: Понаднормативні втрати | E27: ='Додаток 3_ТЕ_населення з ВКО'!G27 -> 0 | F27: ='Додаток 3_ТЕ_населення з ВКО'!H27 -> 0 | I27: =E27 -> 0 | J27: =F27 -> 0 | N27: =F27 -> 0
A28: 1.3.5 | B28: Інші прямі витрати | C28: 0.16 | E28: ='Додаток 3_ТЕ_населення з ВКО'!G28 -> 0.2 | F28: ='Додаток 3_ТЕ_населення з ВКО'!H28 -> 0.2 | G28: 0.16 | I28: =E28 -> 0.2 | J28: =F28 -> 0.2 | K28: 0.16 | N28: =F28 -> 0.2
A29: 1.4 | B29: Загальновиробничі витрати, у т. ч.: | C29: =SUM(C30:C32) -> 0 | E29: ='Додаток 3_ТЕ_населення з ВКО'!G29 -> 0 | F29: ='Додаток 3_ТЕ_населення з ВКО'!H29 -> 0 | G29: =SUM(G30:G32) -> 0 | I29: =E29 -> 0 | J29: =F29 -> 0 | K29: =SUM(K30:K32) -> 0 | N29: =F29 -> 0
A30: 1.4.1 | B30: На оплату праці | I30: =E30 -> 0 | J30: =F30 -> 0 | N30: =F30 -> 0
A31: 1.4.2 | B31: Відрахування на соціальні заходи | I31: =E31 -> 0 | J31: =F31 -> 0 | N31: =F31 -> 0
A32: 1.4.3 | B32: Інші витрати | I32: =E32 -> 0 | J32: =F32 -> 0 | N32: =F32 -> 0
A33: 2 | B33: Адміністративні витрати, у т. ч.: | C33: =SUM(C34:C36) -> 0 | E33: =SUM(E34:E36) -> 0 | F33: =SUM(F34:F36) -> 0 | G33: =SUM(G34:G36) -> 0 | I33: =E33 -> 0 | J33: =F33 -> 0 | K33: =SUM(K34:K36) -> 0 | N33: =F33 -> 0
A34: 2.1 | B34: На оплату праці | I34: =E34 -> 0 | J34: =F34 -> 0 | N34: =F34 -> 0
A35: 2.2 | B35: Відрахування на соціальні заходи | I35: =E35 -> 0 | J35: =F35 -> 0 | N35: =F35 -> 0
A36: 2.3 | B36: Інші витрати | I36: =E36 -> 0 | J36: =F36 -> 0 | N36: =F36 -> 0
A37: 3 | B37: Витрати на збут, у т. ч.: | C37: =SUM(C38:C40) -> 0 | E37: =SUM(E38:E40) -> 0 | F37: =SUM(F38:F40) -> 0 | G37: =SUM(G38:G40) -> 0 | I37: =E37 -> 0 | J37: =F37 -> 0 | K37: =SUM(K38:K40) -> 0 | N37: =F37 -> 0
A38: 3.1 | B38: На оплату праці
A39: 3.2 | B39: Відрахування на соціальні заходи
A40: 3.3 | B40: Інші витрати
A41: 4 | B41: Інші операційні витрати
A42: 5 | B42: Фінансові витрати
A43: 6 | B43: Повна собівартість | C43: =C8+C33+C37+C41+C42 -> 1932.85 | E43: =E8+E33+E37+E41+E42 -> 2367.39 | F43: =F8+F33+F37+F41+F42 -> 2596.67 | G43: =G8+G33+G37+G41+G42 -> 2189.91 | I43: =I8+I33+I37+I41+I42 -> 2367.39 | J43: =J8+J33+J37+J41+J42 -> 2596.67 | K43: =K8+K33+K37+K41+K42 -> 1904.5 | N43: =N8+N33+N37+N41+N42 -> 2396.94
A44: 7 | B44: Витрати на відшкодування втрат
A45: 8 | B45: Перерахування витрат | C45: 0 | E45: ='[1]Дод 7-5(безЦТПбезІТПбезВКО)ЄР1'!E26 -> 0 | F45: ='[1]Дод 7-5(безЦТПбезІТПбезВКО)ЄР1'!F26 -> 0 | G45: 0 | I45: ='[1]Дод 7-5(безЦТПбезІТПбезВКО)ЄР1'!F21 -> 0 | J45: ='[1]Дод 7-5(безЦТПбезІТПбезВКО)ЄР1'!G21 -> 0 | K45: 0 | N45: ='[1]Дод 7-5(безЦТПбезІТПбезВКО)ЄР1'!H21 -> 0
A46: 9 | B46: Планований прибуток, у т.ч.: | C46: =(C51+C50)/0.82 -> 0.3102439 | E46: =(E51+E50+E49)/0.82 -> 249.35366 | F46: =(F51+F50+F49)/0.82 -> 249.35366 | G46: =(G51+G50)/0.82 -> 0.3102439 | I46: =(I51+I50+I49)/0.82 -> 249.35366 | J46: =(J51+J50+J49)/0.82 -> 249.35366 | K46: =(K51+K50)/0.82 -> 0.3102439 | N46: =(N51+N50+N49)/0.82 -> 249.35366
A47: 9.1 | B47: Податок на прибуток | C47: =C46*0.18 -> 0.055843902 | E47: =E46*0.18 -> 44.883659 | F47: =F46*0.18 -> 44.883659 | G47: =G46*0.18 -> 0.055843902 | I47: =I46*0.18 -> 44.883659 | J47: =J46*0.18 -> 44.883659 | K47: =K46*0.18 -> 0.055843902 | N47: =N46*0.18 -> 44.883659
A48: 9.2 | B48: Резервний капітал та дивіденди
A49: 9.3 | B49: На здійснення заходів інвестиційної програми (інвестиційна складова) | E49: ='Додаток 3_ТЕ_населення з ВКО'!G50 -> 204.08 | F49: ='Додаток 3_ТЕ_населення з ВКО'!H50 -> 204.08 | I49: =E49 -> 204.08 | J49: =F49 -> 204.08 | N49: =F49 -> 204.08
A50: 9.4 | B50: На забезпечення обігових коштів | C50: =6.36*0.04 -> 0.2544 | E50: ='Додаток 3_ТЕ_населення з ВКО'!G51 -> 0.39 | F50: ='Додаток 3_ТЕ_населення з ВКО'!H51 -> 0.39 | G50: =6.36*0.04 -> 0.2544 | I50: =E50 -> 0.39 | J50: =F50 -> 0.39 | K50: =6.36*0.04 -> 0.2544 | N50: =F50 -> 0.39
A51: 9.5 | B51: Інше використання прибутку
A52: 10 | B52: Тариф на теплову енергію/послугу з постачання теплової енергії, грн/Гкал, без ПДВ | C52: =C43+C45+C46 -> 1933.1602 | E52: =ROUND(E43+E45+E46,2) -> 2616.74 | F52: =ROUND(F43+F45+F46,2) -> 2846.02 | G52: =G43+G45+G46 -> 2190.2202 | I52: =ROUND(I43+I45+I46,2) -> 2616.74 | J52: =ROUND(J43+J45+J46,2) -> 2846.02 | K52: =K43+K45+K46 -> 1904.8102 | N52: =ROUNDDOWN(N43+N45+N46,2) -> 2646.29
A53: 11 | B53: Податок на додану вартість | C53: =C52*0.2 -> 386.63205 | E53: =E52*0.2 -> 523.348 | F53: =F52*0.2 -> 569.204 | G53: =G52*0.2 -> 438.04405 | I53: =I52*0.2 -> 523.348 | J53: =J52*0.2 -> 569.204 | K53: =K52*0.2 -> 380.96205 | N53: =N52*0.2 -> 529.258
A54: 12 | B54: Тариф на теплову енергію/послугу з постачання теплової енергії, грн/Гкал, з ПДВ | C54: =C52+C53 -> 2319.7923 | E54: =ROUND(E52+E53,2) -> 3140.09 | F54: =ROUND(F52+F53,2) -> 3415.22 | G54: =G52+G53 -> 2628.2643 | I54: =I52+I53 -> 3140.088 | J54: =J52+J53 -> 3415.224 | K54: =K52+K53 -> 2285.7723 | N54: =ROUND(N52+N53,2) -> 3175.55
A55: необхідність зміни тарифів пов'язана із зміною тарифу на транспортування теплової енергії іншого ліцензіата (КП "КИЇВТЕПЛОЕНЕРГО"), який є складовою тарифу на теплову енергію ТОВ "ЄВРО-РЕКОНСТРУКЦІЯ", актуалізацією витрат тарифу на постачання теплової енергії та на виконання процедури встановлення тарифів
B56: Генеральний директор | J56: О.А.Сидоренко
B57: (керівник) | C57: (підпис)

Sheet Додаток 5 ГВП_ з ВКО
J1: Додаток 15-22
A2: Структура тарифів на послугу з постачання гарячої води без урахування витрат на утримання та ремонт центральних теплових пунктів, без урахування витрат на утримання та ремонт індивідуальних теплових пунктів, з урахуванням витрат на оснащення будівель вузлами комерційного обліку
A3: ТОВ "ЄВРО-РЕКОНСТРУКЦІЯ
A4: Для потреб населення | G4: Для потреб бюджетних установ | J4: Для потреб інших споживачів
A5: № | B5: Найменування показників | C5: 2022 рік розпорядження КМВА від 30.09.2022 № 674 | D5: ='Додаток 2_ТЕ_БІР без ВКО'!D5 -> Розпорядження КМВА від 16.06.2026 року №131 | E5: ='Додаток 2_ТЕ_БІР без ВКО'!E5 -> Розпорядження КМВА від 29.09.2026 року №249 | F5: прогнозна | G5: Розпорядження КМВА від 16.06.2026 року №131 | H5: =E5 -> Розпорядження КМВА від 29.09.2026 року №249 | I5: прогнозна | J5: 2026 рік Розпорядження КМВА від 16.06.2026 року №131 | K5: =E5 -> Розпорядження КМВА від 29.09.2026 року №249 | L5: прогнозна
C6: грн/м³ | D6: грн/м³ | E6: грн/м³ | F6: грн/м³ | G6: грн/м³ | H6: грн/м³ | I6: грн/м³ | J6: грн/м³ | K6: грн/м³ | L6: грн/м³
A7: 1 | B7: 2 | C7: 4 | D7: =B7+1 -> 3 | E7: =D7+1 -> 4 | F7: =E7+1 -> 5 | G7: =F7+1 -> 6 | H7: =G7+1 -> 7 | I7: =H7+1 -> 8 | J7: =I7+1 -> 9 | K7: =J7+1 -> 10 | L7: =K7+1 -> 11
A8: 1 | B8: Планована виробнича собівартість, у тому числі: | C8: =C9 -> 89.99744 | D8: 139.81 | E8: =E9 -> 141.74 | F8: =F9 -> 160.3 | H8: =H9 -> 142.79 | I8: =I9 -> 166.37 | K8: =K9 -> 142.79 | L8: =L9 -> 166.37
A9: 1.1 | B9: Прямі матеріальні витрати, у тому числі: | C9: =C10+C11 -> 89.99744 | D9: 139.81 | E9: =E10+E11 -> 141.74 | F9: =F10+F11 -> 160.3 | H9: =H10+H11 -> 142.79 | I9: =I10+I11 -> 166.37 | K9: =K10+K11 -> 142.79 | L9: =L10+L11 -> 166.37
A10: 1.1.1 | B10: На придбання теплової енергії для надання послуг з постачання гарячої води | C10: =(1064.81+668.09+6.36)*0.044 -> 76.52744 | D10: 97.5 | E10: 103.42 | F10: ='[1]Д 14-4 Насел безЦТП безІТП зВКО'!D10 -> 108.52 | H10: 104.47 | I10: ='[1]Д 14-4 Бюдж безЦТП безІТП зВКО'!D10 -> 114.59 | K10: 104.47 | L10: ='[1]Д 14-4 Інші безЦТП безІТП зВКО'!D10 -> 114.59
A11: 1.1.2 | B11: На питну воду для надання послуг з постачання гарячої води | C11: 13.47 | D11: 42.31 | E11: 38.32 | F11: ='[1]Д 14-4 Насел безЦТП безІТП зВКО'!D12 -> 51.78 | H11: 38.32 | I11: ='[1]Д 14-4 Бюдж безЦТП безІТП зВКО'!D12 -> 51.78 | K11: 38.32 | L11: ='[1]Д 14-4 Інші безЦТП безІТП зВКО'!D12 -> 51.78
A12: 2 | B12: Повна планована собівартість послуг | C12: =C8 -> 89.99744 | D12: 139.81 | E12: =E8 -> 141.74 | F12: =F8 -> 160.3 | H12: =H8 -> 142.79 | I12: =I8 -> 166.37 | K12: =K8 -> 142.79 | L12: =L8 -> 166.37
A13: 3 | B13: Перерахування витрат | C13: 0 | D13: 0 | E13: 0 | F13: 0 | H13: 0 | I13: 0 | K13: 0 | L13: 0
A14: 4 | B14: Планований прибуток, усього, зокрема: | C14: 7.69 | D14: 17.17 | E14: =E15+E16 -> 10.97 | F14: =F15+F16 -> 10.97 | H14: =H15+H16 -> 11 | I14: =ROUNDDOWN(I15+I16,3) -> 11 | K14: =K15+K16 -> 11 | L14: =ROUNDDOWN(L15+L16,3) -> 11
A15: 4.1 | B15: Прибуток у тарифі на теплову енергію для потреб відповідної категорії споживачів | C15: =C14-C16 -> 6.3058 | D15: 14.08 | E15: 9 | F15: ='[1]Д 14-4 Насел безЦТП безІТП зВКО'!D26 -> 9 | H15: 9.02 | I15: ='[1]Д 14-4 Бюдж безЦТП безІТП зВКО'!D26 -> 9.02 | K15: 9.02 | L15: ='[1]Д 14-4 Інші безЦТП безІТП зВКО'!D26 -> 9.02
A16: 4.2 | B16: Податок на прибуток | C16: =C14*0.18 -> 1.3842 | D16: 3.09 | E16: 1.97 | F16: ='[1]Д 14-4 Насел безЦТП безІТП зВКО'!D27 -> 1.97 | H16: 1.98 | I16: ='[1]Д 14-4 Бюдж безЦТП безІТП зВКО'!D27 -> 1.98 | K16: 1.98 | L16: ='[1]Д 14-4 Інші безЦТП безІТП зВКО'!D27 -> 1.98
A17: 5 | B17: Тариф на послугу з постачання гарячої води, грн/м³, без ПДВ | C17: =C12+C13+C14 -> 97.68744 | D17: 156.98 | E17: =E12+E13+E14 -> 152.71 | F17: =F12+F13+F14 -> 171.27 | H17: =H12+H13+H14 -> 153.79 | I17: =I12+I13+I14 -> 177.37 | K17: =K12+K13+K14 -> 153.79 | L17: =L12+L13+L14 -> 177.37
A18: 6 | B18: Податок на додану вартість | C18: =C17*0.2 -> 19.537488 | D18: 31.396 | E18: =E17*0.2 -> 30.542 | F18: =F17*0.2 -> 34.254 | H18: =H17*0.2 -> 30.758 | I18: =ROUND(I17*0.2,2) -> 35.47 | K18: =K17*0.2 -> 30.758 | L18: =ROUND(L17*0.2,2) -> 35.47
A19: 7 | B19: Тариф на послугу з постачання гарячої води, грн/м³, з ПДВ | C19: =C17+C18+0.005 -> 117.22993 | D19: 188.376 | E19: =E17+E18 -> 183.252 | F19: =F17+F18 -> 205.524 | H19: =H17+H18 -> 184.548 | I19: =I17+I18 -> 212.84 | K19: =K17+K18 -> 184.548 | L19: =L17+L18 -> 212.84
A20: необхідність зміни тарифів пов'язана із зміною тарифів на теплову енергію з врахуванням витрат на оснащення будівель вузлами комерційного обліку, зміною тарифів на холодну воду для створення послуги з постачання гарячої води та на виконання процедури встановлення тарифів
B21: Генеральний директор | F21: О.А.Сидоренко
B22: (керівник) | C22: (підпис) | F22: (ініціали, прізвище)

Sheet Додаток 6 ГВП_ без ВКО
J1: Додаток 15-23
A2: Структура тарифів на послугу з постачання гарячої води без урахування витрат на утримання та ремонт центральних теплових пунктів, без урахування витрат на утримання та ремонт індивідуальних теплових пунктів, без урахування витрат на оснащення будівель вузлами комерційного обліку для категорій споживачів населення, бюджетні установи, інші споживачі
A3: ТОВ "ЄВРО-РЕКОНСТРУКЦІЯ
A4: № | B4: Найменування показників | D4: Для потреб населення | G4: Для потреб бюджетних установ | J4: Для потреб інших споживачів
C5: 2022 рік розпорядження КМВА від 30.09.2022 № 674 | D5: ='Додаток 5 ГВП_ з ВКО'!D5 -> Розпорядження КМВА від 16.06.2026 року №131 | E5: ='Додаток 5 ГВП_ з ВКО'!E5 -> Розпорядження КМВА від 29.09.2026 року №249 | F5: прогнозна | G5: =D5 -> Розпорядження КМВА від 16.06.2026 року №131 | H5: =E5 -> Розпорядження КМВА від 29.09.2026 року №249 | I5: прогнозна | J5: =D5 -> Розпорядження КМВА від 16.06.2026 року №131 | K5: =E5 -> Розпорядження КМВА від 29.09.2026 року №249 | L5: прогнозна
C6: грн/м³ | D6: грн/м³ | E6: грн/м³ | F6: грн/м³ | G6: грн/м³ | H6: грн/м³ | I6: грн/м³ | J6: грн/м³ | K6: грн/м³ | L6: грн/м³
A7: 1 | B7: 2 | C7: 4 | D7: =B7+1 -> 3 | E7: =D7+1 -> 4 | F7: =E7+1 -> 5 | G7: =F7+1 -> 6 | H7: =G7+1 -> 7 | I7: =H7+1 -> 8 | J7: =I7+1 -> 9 | K7: =J7+1 -> 10 | L7: =K7+1 -> 11
A8: 1 | B8: Планована виробнича собівартість, у тому числі: | C8: =C9 -> 89.99744 | D8: =D9 -> 139.81 | E8: =E9 -> 141.74 | F8: =F9 -> 160.3 | G8: 140.8 | H8: =H9 -> 142.79 | I8: =I9 -> 166.37 | J8: 140.8 | K8: =K9 -> 142.79 | L8: =L9 -> 166.37
A9: 1.1 | B9: Прямі матеріальні витрати, у тому числі: | C9: =C10+C11 -> 89.99744 | D9: 139.81 | E9: =E10+E11 -> 141.74 | F9: =F10+F11 -> 160.3 | G9: 140.8 | H9: =H10+H11 -> 142.79 | I9: =I10+I11 -> 166.37 | J9: 140.8 | K9: =K10+K11 -> 142.79 | L9: =L10+L11 -> 166.37
A10: 1.1.1 | B10: На придбання теплової енергії для надання послуг з постачання гарячої води | C10: =(1064.81+668.09+6.36)*0.044 -> 76.52744 | D10: 97.5 | E10: 103.42 | F10: ='[1]Д 14-5 Насел безЦТПбезІТПбезВКО'!D10 -> 108.52 | G10: 98.49 | H10: 104.47 | I10: ='[1]Д 14-5 Бюдж безЦТПбезІТПбезВКО'!D10 -> 114.59 | J10: 98.49 | K10: 104.47 | L10: ='[1]Д 14-5 ІНШІ безЦТПбезІТПбезВКО'!D10 -> 114.59
A11: 1.1.2 | B11: На питну воду для надання послуг з постачання гарячої води | C11: 13.47 | D11: 42.31 | E11: 38.32 | F11: ='[1]Д 14-5 Насел безЦТПбезІТПбезВКО'!D12 -> 51.78 | G11: 42.31 | H11: 38.32 | I11: ='[1]Д 14-5 Бюдж безЦТПбезІТПбезВКО'!D12 -> 51.78 | J11: 42.31 | K11: 38.32 | L11: ='[1]Д 14-5 ІНШІ безЦТПбезІТПбезВКО'!D12 -> 51.78
A12: 2 | B12: Повна планована собівартість послуг | C12: =C8 -> 89.99744 | D12: 139.81 | E12: =E8 -> 141.74 | F12: =F8 -> 160.3 | G12: 140.8 | H12: =H8 -> 142.79 | I12: =I8 -> 166.37 | J12: 140.8 | K12: =K8 -> 142.79 | L12: =L8 -> 166.37
A13: 3 | B13: Перерахування витрат | C13: 0 | D13: 0 | E13: 0 | F13: 0 | G13: 0 | H13: 0 | I13: ='[1]Д 14-5 Бюдж безЦТПбезІТПбезВКО'!D24 -> 0 | J13: 0 | K13: 0 | L13: ='[1]Д 14-5 ІНШІ безЦТПбезІТПбезВКО'!D24 -> 0
A14: 4 | B14: Планований прибуток, усього, зокрема: | C14: 0.014 | D14: 0.018 | E14: =ROUNDDOWN(E15+E16,3) -> 0.02 | F14: =ROUNDUP(F15+F16,3) -> 0.021 | G14: 0.018 | H14: =ROUNDDOWN(H15+H16,3) -> 0.021 | I14: =ROUNDDOWN(I15+I16,3) -> 0.021 | J14: 0.018 | K14: =ROUNDDOWN(K15+K16,3) -> 0.021 | L14: =ROUNDDOWN(L15+L16,3) -> 0.021
A15: 4.1 | B15: Прибуток у тарифі на теплову енергію для потреб відповідної категорії споживачів | C15: =C14-C16 -> 0.01148 | D15: 0.015 | E15: 0.017 | F15: ='[1]Д 14-5 Насел безЦТПбезІТПбезВКО'!D26 -> 0.016957599 | G15: 0.01484396 | H15: 0.017 | I15: ='[1]Д 14-5 Бюдж безЦТПбезІТПбезВКО'!D26 -> 0.017 | J15: 0.014843927 | K15: 0.017 | L15: ='[1]Д 14-5 ІНШІ безЦТПбезІТПбезВКО'!D26 -> 0.017
A16: 4.2 | B16: Податок на прибуток | C16: =C14*0.18 -> 0.00252 | D16: 0.003 | E16: 0.003 | F16: ='[1]Д 14-5 Насел безЦТПбезІТПбезВКО'!D27 -> 0.0037223999 | G16: 0.0032584303 | H16: 0.004 | I16: ='[1]Д 14-5 Бюдж безЦТПбезІТПбезВКО'!D27 -> 0.004 | J16: 0.003258423 | K16: 0.004 | L16: ='[1]Д 14-5 ІНШІ безЦТПбезІТПбезВКО'!D27 -> 0.004
A17: 5 | B17: Тариф на послугу з постачання гарячої води, грн/м³, без ПДВ | C17: =C12+C13+C14 -> 90.01144 | D17: 139.83 | E17: =E12+E13+E14 -> 141.76 | F17: =F12+F13+F14 -> 160.321 | G17: 140.818 | H17: =H12+H13+H14 -> 142.811 | I17: =I12+I13+I14 -> 166.391 | J17: 140.818 | K17: =K12+K13+K14 -> 142.811 | L17: =L12+L13+L14 -> 166.391
A18: 6 | B18: Податок на додану вартість | C18: =C17*0.2 -> 18.002288 | D18: 27.97 | E18: =E17*0.2 -> 28.352 | F18: =F17*0.2 -> 32.0642 | G18: 28.16 | H18: =H17*0.2 -> 28.5622 | I18: =ROUND(I17*0.2,2) -> 33.28 | J18: 28.16 | K18: =K17*0.2 -> 28.5622 | L18: =ROUND(L17*0.2,2) -> 33.28
A19: 7 | B19: Тариф на послугу з постачання гарячої води, грн/м³, з ПДВ | C19: =C17+C18 -> 108.01373 | D19: 167.8 | E19: =ROUND(E17+E18,2) -> 170.11 | F19: =ROUNDDOWN(F17+F18,2) -> 192.38 | G19: 168.978 | H19: =ROUND(H17+H18,2) -> 171.37 | I19: =I17+I18 -> 199.671 | J19: 168.978 | K19: =ROUND(K17+K18,2) -> 171.37 | L19: =L17+L18 -> 199.671
A20: необхідність зміни тарифів пов'язана із зміною тарифів на теплову енергію, зміною тарифів на холодну воду для створення послуги з постачання гарячої води та на виконання процедури встановлення тарифів
B21: Генеральний директор | F21: О.А.Сидоренко
B22: (керівник) | C22: (підпис) | F22: (ініціали, прізвище)
